BEGIN:VCALENDAR
VERSION:2.0
PRODID:-//Department Of Education//49b30f43-5a89-4a6a-bb41-f4deda8bda3a
BEGIN:VTIMEZONE
TZID:Australia/Sydney
TZURL:http://tzurl.org/zoneinfo-outlook/Australia/Sydney
X-LIC-LOCATION:Australia/Sydney
BEGIN:STANDARD
TZOFFSETFROM:+1100
TZOFFSETTO:+1000
TZNAME:AEST
DTSTART:19700405T030000
RRULE:FREQ=YEARLY;BYMONTH=4;BYDAY=1SU
END:STANDARD
BEGIN:DAYLIGHT
TZOFFSETFROM:+1000
TZOFFSETTO:+1100
TZNAME:AEDT
DTSTART:19701004T020000
RRULE:FREQ=YEARLY;BYMONTH=10;BYDAY=1SU
END:DAYLIGHT
END:VTIMEZONE
CALSCALE:GREGORIAN
X-WR-TIMEZONE:Australia/Sydney
BEGIN:VEVENT
DTSTART;VALUE=DATE:20200409
DTEND;VALUE=DATE:20200410
DTSTAMP:20200409T000000Z
UID:e06cd4e9-0ec3-4e4e-adce-42c3718219a8
LOCATION:Blytheswood Avenue & Finlay Road, Warrawee
SUMMARY;LANGUAGE=en-us:End of Term 1, 2020 for all staff and students
SEQUENCE:0
DESCRIPTION:All staff and students to finish Term 1, 2020
END:VEVENT
TRANSP:TRANSPARENT
END:VCALENDAR
